BEGIN:VCALENDAR
VERSION:2.0
PRODID:-//Indiana Black Expo-Indianapolis Chapter, Inc. - ECPv6.15.20//NONSGML v1.0//EN
CALSCALE:GREGORIAN
METHOD:PUBLISH
X-WR-CALNAME:Indiana Black Expo-Indianapolis Chapter, Inc.
X-ORIGINAL-URL:https://www.indychapter.org
X-WR-CALDESC:Events for Indiana Black Expo-Indianapolis Chapter, Inc.
REFRESH-INTERVAL;VALUE=DURATION:PT1H
X-Robots-Tag:noindex
X-PUBLISHED-TTL:PT1H
BEGIN:VTIMEZONE
TZID:America/Indiana/Indianapolis
BEGIN:DAYLIGHT
TZOFFSETFROM:-0500
TZOFFSETTO:-0400
TZNAME:EDT
DTSTART:20250309T070000
END:DAYLIGHT
BEGIN:STANDARD
TZOFFSETFROM:-0400
TZOFFSETTO:-0500
TZNAME:EST
DTSTART:20251102T060000
END:STANDARD
BEGIN:DAYLIGHT
TZOFFSETFROM:-0500
TZOFFSETTO:-0400
TZNAME:EDT
DTSTART:20260308T070000
END:DAYLIGHT
BEGIN:STANDARD
TZOFFSETFROM:-0400
TZOFFSETTO:-0500
TZNAME:EST
DTSTART:20261101T060000
END:STANDARD
BEGIN:DAYLIGHT
TZOFFSETFROM:-0500
TZOFFSETTO:-0400
TZNAME:EDT
DTSTART:20270314T070000
END:DAYLIGHT
BEGIN:STANDARD
TZOFFSETFROM:-0400
TZOFFSETTO:-0500
TZNAME:EST
DTSTART:20271107T060000
END:STANDARD
END:VTIMEZONE
BEGIN:VEVENT
DTSTART;TZID=America/Indiana/Indianapolis:20260512T183000
DTEND;TZID=America/Indiana/Indianapolis:20260512T200000
DTSTAMP:20260423T115255
CREATED:20260302T001043Z
LAST-MODIFIED:20260302T001511Z
UID:271061-1778610600-1778616000@www.indychapter.org
SUMMARY:ICIBE Board Meeting
DESCRIPTION:
URL:https://www.indychapter.org/event/icibe-board-meeting-3/
LOCATION:Julia Carson Gov’t Center\, 300 E. Fall Creek Parkway North Drive\, Indianapolis\, IN\, 46205\, United States
CATEGORIES:Board Meeting
END:VEVENT
BEGIN:VEVENT
DTSTART;TZID=America/Indiana/Indianapolis:20260609T183000
DTEND;TZID=America/Indiana/Indianapolis:20260609T200000
DTSTAMP:20260423T115255
CREATED:20260302T001151Z
LAST-MODIFIED:20260302T001529Z
UID:271063-1781029800-1781035200@www.indychapter.org
SUMMARY:ICIBE Board Meeting
DESCRIPTION:
URL:https://www.indychapter.org/event/icibe-board-meeting-4/
LOCATION:Julia Carson Gov’t Center\, 300 E. Fall Creek Parkway North Drive\, Indianapolis\, IN\, 46205\, United States
CATEGORIES:Board Meeting
END:VEVENT
BEGIN:VEVENT
DTSTART;TZID=America/Indiana/Indianapolis:20260714T183000
DTEND;TZID=America/Indiana/Indianapolis:20260714T200000
DTSTAMP:20260423T115255
CREATED:20260302T001246Z
LAST-MODIFIED:20260302T001246Z
UID:271065-1784053800-1784059200@www.indychapter.org
SUMMARY:ICIBE Board Meeting
DESCRIPTION:
URL:https://www.indychapter.org/event/icibe-board-meeting-5/
LOCATION:Julia Carson Gov’t Center\, 300 E. Fall Creek Parkway North Drive\, Indianapolis\, IN\, 46205\, United States
CATEGORIES:Board Meeting
END:VEVENT
BEGIN:VEVENT
DTSTART;TZID=America/Indiana/Indianapolis:20260811T183000
DTEND;TZID=America/Indiana/Indianapolis:20260811T200000
DTSTAMP:20260423T115255
CREATED:20260302T001409Z
LAST-MODIFIED:20260302T001409Z
UID:271067-1786473000-1786478400@www.indychapter.org
SUMMARY:ICIBE Board Meeting
DESCRIPTION:
URL:https://www.indychapter.org/event/icibe-board-meeting-6/
LOCATION:Julia Carson Gov’t Center\, 300 E. Fall Creek Parkway North Drive\, Indianapolis\, IN\, 46205\, United States
CATEGORIES:Board Meeting
END:VEVENT
BEGIN:VEVENT
DTSTART;TZID=America/Indiana/Indianapolis:20260908T183000
DTEND;TZID=America/Indiana/Indianapolis:20260908T200000
DTSTAMP:20260423T115255
CREATED:20260302T010231Z
LAST-MODIFIED:20260302T010231Z
UID:271069-1788892200-1788897600@www.indychapter.org
SUMMARY:ICIBE Board Meeting
DESCRIPTION:
URL:https://www.indychapter.org/event/icibe-board-meeting-7/
LOCATION:Julia Carson Gov’t Center\, 300 E. Fall Creek Parkway North Drive\, Indianapolis\, IN\, 46205\, United States
CATEGORIES:Board Meeting
END:VEVENT
BEGIN:VEVENT
DTSTART;TZID=America/Indiana/Indianapolis:20261013T183000
DTEND;TZID=America/Indiana/Indianapolis:20261013T200000
DTSTAMP:20260423T115255
CREATED:20260302T010349Z
LAST-MODIFIED:20260302T010349Z
UID:271071-1791916200-1791921600@www.indychapter.org
SUMMARY:ICIBE Board Meeting
DESCRIPTION:
URL:https://www.indychapter.org/event/icibe-board-meeting-8/
LOCATION:Julia Carson Gov’t Center\, 300 E. Fall Creek Parkway North Drive\, Indianapolis\, IN\, 46205\, United States
CATEGORIES:Board Meeting
END:VEVENT
BEGIN:VEVENT
DTSTART;TZID=America/Indiana/Indianapolis:20261110T183000
DTEND;TZID=America/Indiana/Indianapolis:20261110T200000
DTSTAMP:20260423T115255
CREATED:20260302T010514Z
LAST-MODIFIED:20260302T010514Z
UID:271073-1794335400-1794340800@www.indychapter.org
SUMMARY:ICIBE Board Meeting
DESCRIPTION:
URL:https://www.indychapter.org/event/icibe-board-meeting-9/
LOCATION:Julia Carson Gov’t Center\, 300 E. Fall Creek Parkway North Drive\, Indianapolis\, IN\, 46205\, United States
CATEGORIES:Board Meeting
END:VEVENT
BEGIN:VEVENT
DTSTART;TZID=America/Indiana/Indianapolis:20261208T183000
DTEND;TZID=America/Indiana/Indianapolis:20261208T200000
DTSTAMP:20260423T115255
CREATED:20260302T010720Z
LAST-MODIFIED:20260302T010720Z
UID:271075-1796754600-1796760000@www.indychapter.org
SUMMARY:ICIBE Board Meeting
DESCRIPTION:
URL:https://www.indychapter.org/event/icibe-board-meeting-10/
LOCATION:Julia Carson Gov’t Center\, 300 E. Fall Creek Parkway North Drive\, Indianapolis\, IN\, 46205\, United States
CATEGORIES:Board Meeting
END:VEVENT
END:VCALENDAR