BEGIN:VCALENDAR
VERSION:2.0
PRODID:-//Indiana Black Expo-Indianapolis Chapter, Inc. - ECPv6.15.20//NONSGML v1.0//EN
CALSCALE:GREGORIAN
METHOD:PUBLISH
X-ORIGINAL-URL:https://www.indychapter.org
X-WR-CALDESC:Events for Indiana Black Expo-Indianapolis Chapter, Inc.
REFRESH-INTERVAL;VALUE=DURATION:PT1H
X-Robots-Tag:noindex
X-PUBLISHED-TTL:PT1H
BEGIN:VTIMEZONE
TZID:America/Indiana/Indianapolis
BEGIN:DAYLIGHT
TZOFFSETFROM:-0500
TZOFFSETTO:-0400
TZNAME:EDT
DTSTART:20250309T070000
END:DAYLIGHT
BEGIN:STANDARD
TZOFFSETFROM:-0400
TZOFFSETTO:-0500
TZNAME:EST
DTSTART:20251102T060000
END:STANDARD
BEGIN:DAYLIGHT
TZOFFSETFROM:-0500
TZOFFSETTO:-0400
TZNAME:EDT
DTSTART:20260308T070000
END:DAYLIGHT
BEGIN:STANDARD
TZOFFSETFROM:-0400
TZOFFSETTO:-0500
TZNAME:EST
DTSTART:20261101T060000
END:STANDARD
BEGIN:DAYLIGHT
TZOFFSETFROM:-0500
TZOFFSETTO:-0400
TZNAME:EDT
DTSTART:20270314T070000
END:DAYLIGHT
BEGIN:STANDARD
TZOFFSETFROM:-0400
TZOFFSETTO:-0500
TZNAME:EST
DTSTART:20271107T060000
END:STANDARD
END:VTIMEZONE
BEGIN:VEVENT
DTSTART;TZID=America/Indiana/Indianapolis:20260314T130000
DTEND;TZID=America/Indiana/Indianapolis:20260314T170000
DTSTAMP:20260423T130750
CREATED:20260302T030235Z
LAST-MODIFIED:20260302T030235Z
UID:271129-1773493200-1773507600@www.indychapter.org
SUMMARY:March Gladness Day Party
DESCRIPTION:
URL:https://www.indychapter.org/event/march-gladness-day-party/
LOCATION:Just Wing’n It\, 7834 N. Michigan Road\, Indianapolis\, IN\, 46268\, United States
CATEGORIES:Social Committee a.k.a. The Fun Bunch
ATTACH;FMTTYPE=image/jpeg:https://www.indychapter.org/wp-content/uploads/2026/03/IBEI-Marc001.jpg
END:VEVENT
END:VCALENDAR