BEGIN:VCALENDAR
VERSION:2.0
PRODID:-//Indiana Black Expo-Indianapolis Chapter, Inc. - ECPv6.15.20//NONSGML v1.0//EN
CALSCALE:GREGORIAN
METHOD:PUBLISH
X-ORIGINAL-URL:https://www.indychapter.org
X-WR-CALDESC:Events for Indiana Black Expo-Indianapolis Chapter, Inc.
REFRESH-INTERVAL;VALUE=DURATION:PT1H
X-Robots-Tag:noindex
X-PUBLISHED-TTL:PT1H
BEGIN:VTIMEZONE
TZID:America/Indiana/Indianapolis
BEGIN:DAYLIGHT
TZOFFSETFROM:-0500
TZOFFSETTO:-0400
TZNAME:EDT
DTSTART:20250309T070000
END:DAYLIGHT
BEGIN:STANDARD
TZOFFSETFROM:-0400
TZOFFSETTO:-0500
TZNAME:EST
DTSTART:20251102T060000
END:STANDARD
BEGIN:DAYLIGHT
TZOFFSETFROM:-0500
TZOFFSETTO:-0400
TZNAME:EDT
DTSTART:20260308T070000
END:DAYLIGHT
BEGIN:STANDARD
TZOFFSETFROM:-0400
TZOFFSETTO:-0500
TZNAME:EST
DTSTART:20261101T060000
END:STANDARD
BEGIN:DAYLIGHT
TZOFFSETFROM:-0500
TZOFFSETTO:-0400
TZNAME:EDT
DTSTART:20270314T070000
END:DAYLIGHT
BEGIN:STANDARD
TZOFFSETFROM:-0400
TZOFFSETTO:-0500
TZNAME:EST
DTSTART:20271107T060000
END:STANDARD
END:VTIMEZONE
BEGIN:VEVENT
DTSTART;TZID=America/Indiana/Indianapolis:20260502T130000
DTEND;TZID=America/Indiana/Indianapolis:20260502T180000
DTSTAMP:20260423T131409
CREATED:20260316T180416Z
LAST-MODIFIED:20260414T205421Z
UID:271207-1777726800-1777744800@www.indychapter.org
SUMMARY:ICIBE Cinco De Mayo Day Party
DESCRIPTION:Advance Tickets are $15 and then $20 at the door. \nClick Here To Purchase Your Advance Tickets Online: https://square.link/u/cVxUnVxM \nTHERE IS A $1.00 CONVENIENCE FEE PER TICKET FOR AN ONLINE PAYMENT. IF YOU DO NOT WISH TO PAY THIS\, CONTACT 317-557-0304 TO PURCHASE TICKETS. 
URL:https://www.indychapter.org/event/icibe-cinco-de-mayo-day-party/
LOCATION:Vibez Ultra Lounge\, 6920 Eagle Highlands Way\, Indianapolis\, IN\, 46254\, United States
CATEGORIES:Social Committee a.k.a. The Fun Bunch
ATTACH;FMTTYPE=image/png:https://www.indychapter.org/wp-content/uploads/2026/03/ICIBE-Cinco-Day-Party_v4-scaled.png
END:VEVENT
END:VCALENDAR